BEGIN:VCALENDAR
VERSION:2.0
PRODID:-//Grad Zabok - ECPv6.15.12.2//NONSGML v1.0//EN
CALSCALE:GREGORIAN
METHOD:PUBLISH
X-WR-CALNAME:Grad Zabok
X-ORIGINAL-URL:https://www.zabok.hr
X-WR-CALDESC:Događaji za Grad Zabok
REFRESH-INTERVAL;VALUE=DURATION:PT1H
X-Robots-Tag:noindex
X-PUBLISHED-TTL:PT1H
BEGIN:VTIMEZONE
TZID:Europe/Zagreb
BEGIN:DAYLIGHT
TZOFFSETFROM:+0100
TZOFFSETTO:+0200
TZNAME:CEST
DTSTART:20210328T010000
END:DAYLIGHT
BEGIN:STANDARD
TZOFFSETFROM:+0200
TZOFFSETTO:+0100
TZNAME:CET
DTSTART:20211031T010000
END:STANDARD
BEGIN:DAYLIGHT
TZOFFSETFROM:+0100
TZOFFSETTO:+0200
TZNAME:CEST
DTSTART:20220327T010000
END:DAYLIGHT
BEGIN:STANDARD
TZOFFSETFROM:+0200
TZOFFSETTO:+0100
TZNAME:CET
DTSTART:20221030T010000
END:STANDARD
BEGIN:DAYLIGHT
TZOFFSETFROM:+0100
TZOFFSETTO:+0200
TZNAME:CEST
DTSTART:20230326T010000
END:DAYLIGHT
BEGIN:STANDARD
TZOFFSETFROM:+0200
TZOFFSETTO:+0100
TZNAME:CET
DTSTART:20231029T010000
END:STANDARD
END:VTIMEZONE
BEGIN:VEVENT
DTSTART;TZID=Europe/Zagreb:20221223T120000
DTEND;TZID=Europe/Zagreb:20221223T120000
DTSTAMP:20260420T182558
CREATED:20221129T132057Z
LAST-MODIFIED:20221129T132057Z
UID:10000036-1671796800-1671796800@www.zabok.hr
SUMMARY:Božićna priča\, pjesma i ples\, Gimnazija Antuna Gustava Matoša
DESCRIPTION:
URL:https://www.zabok.hr/dogadanje/bozicna-prica-pjesma-i-ples-gimnazija-antuna-gustava-matosa/
ATTACH;FMTTYPE=image/jpeg:https://www.zabok.hr/wp-content/uploads/2022/10/Zabok-logo.jpg
END:VEVENT
BEGIN:VEVENT
DTSTART;TZID=Europe/Zagreb:20221222T180000
DTEND;TZID=Europe/Zagreb:20221222T180000
DTSTAMP:20260420T182558
CREATED:20221129T132029Z
LAST-MODIFIED:20221129T132029Z
UID:10000035-1671732000-1671732000@www.zabok.hr
SUMMARY:Predstavljanje Godišnjaka Grada Zaboka
DESCRIPTION:
URL:https://www.zabok.hr/dogadanje/predstavljanje-godisnjaka-grada-zaboka/
LOCATION:Gradska galerija Zabok\, Grad Zabok\, Zabok\, 49210\, Croatia (Local Name: Hrvatska)
ATTACH;FMTTYPE=image/jpeg:https://www.zabok.hr/wp-content/uploads/2022/10/Zabok-logo.jpg
END:VEVENT
BEGIN:VEVENT
DTSTART;TZID=Europe/Zagreb:20221222T180000
DTEND;TZID=Europe/Zagreb:20221222T180000
DTSTAMP:20260420T182558
CREATED:20221129T132001Z
LAST-MODIFIED:20221129T132001Z
UID:10000034-1671732000-1671732000@www.zabok.hr
SUMMARY:Kazališna predstava 'Božićni djedomobil'\, MMC Zabok
DESCRIPTION:
URL:https://www.zabok.hr/dogadanje/kazalisna-predstava-bozicni-djedomobil-mmc-zabok/
ATTACH;FMTTYPE=image/jpeg:https://www.zabok.hr/wp-content/uploads/2022/10/Zabok-logo.jpg
END:VEVENT
BEGIN:VEVENT
DTSTART;TZID=Europe/Zagreb:20221222T110000
DTEND;TZID=Europe/Zagreb:20221222T130000
DTSTAMP:20260420T182558
CREATED:20221129T131938Z
LAST-MODIFIED:20221129T131938Z
UID:10000033-1671706800-1671714000@www.zabok.hr
SUMMARY:Božićni sajam u Školi za umjetnost\, dizajn\, grafiku i odjeću Zabok
DESCRIPTION:
URL:https://www.zabok.hr/dogadanje/bozicni-sajam-u-skoli-za-umjetnost-dizajn-grafiku-i-odjecu-zabok-2/
LOCATION:Škola za umjetnost\, dizajn\, grafiku i odjeću Zabok\, Škola za umjetnost\, dizajn\, grafiku i odjeću Zabok\, Zabok\, 49210\, Croatia (Local Name: Hrvatska)
ATTACH;FMTTYPE=image/jpeg:https://www.zabok.hr/wp-content/uploads/2022/10/Zabok-logo.jpg
END:VEVENT
BEGIN:VEVENT
DTSTART;TZID=Europe/Zagreb:20221221T180000
DTEND;TZID=Europe/Zagreb:20221221T180000
DTSTAMP:20260420T182558
CREATED:20221129T131908Z
LAST-MODIFIED:20221129T131908Z
UID:10000032-1671645600-1671645600@www.zabok.hr
SUMMARY:"Gdje misli nestaju“ promocija knjige Dalibora Šanteka
DESCRIPTION:
URL:https://www.zabok.hr/dogadanje/gdje-misli-nestaju-promocija-knjige-dalibora-santeka/
LOCATION:Gradska knjižnica Zabok\, KNJIŽNICA KSAVER ŠANDOR ĐALSKI ZABOK\, Zabok\, 49210\, Croatia (Local Name: Hrvatska)
ATTACH;FMTTYPE=image/jpeg:https://www.zabok.hr/wp-content/uploads/2022/10/Zabok-logo.jpg
END:VEVENT
BEGIN:VEVENT
DTSTART;TZID=Europe/Zagreb:20221221T110000
DTEND;TZID=Europe/Zagreb:20221221T130000
DTSTAMP:20260420T182558
CREATED:20221129T131843Z
LAST-MODIFIED:20221129T131843Z
UID:10000031-1671620400-1671627600@www.zabok.hr
SUMMARY:Božićni sajam u Školi za umjetnost\, dizajn\, grafiku i odjeću Zabok
DESCRIPTION:
URL:https://www.zabok.hr/dogadanje/bozicni-sajam-u-skoli-za-umjetnost-dizajn-grafiku-i-odjecu-zabok/
LOCATION:Škola za umjetnost\, dizajn\, grafiku i odjeću Zabok\, Škola za umjetnost\, dizajn\, grafiku i odjeću Zabok\, Zabok\, 49210\, Croatia (Local Name: Hrvatska)
ATTACH;FMTTYPE=image/jpeg:https://www.zabok.hr/wp-content/uploads/2022/10/Zabok-logo.jpg
END:VEVENT
BEGIN:VEVENT
DTSTART;TZID=Europe/Zagreb:20221220T173000
DTEND;TZID=Europe/Zagreb:20221220T173000
DTSTAMP:20260420T182558
CREATED:20221129T131755Z
LAST-MODIFIED:20221129T131800Z
UID:10000030-1671557400-1671557400@www.zabok.hr
SUMMARY:Koncert učenika glazbenih odjela ŠUDIGO- a\, reGALERIJA
DESCRIPTION:
URL:https://www.zabok.hr/dogadanje/koncert-ucenika-glazbenih-odjela-sudigo-a-regalerija/
ATTACH;FMTTYPE=image/jpeg:https://www.zabok.hr/wp-content/uploads/2022/10/Zabok-logo.jpg
END:VEVENT
BEGIN:VEVENT
DTSTART;TZID=Europe/Zagreb:20221220T170000
DTEND;TZID=Europe/Zagreb:20221220T170000
DTSTAMP:20260420T182558
CREATED:20221129T131729Z
LAST-MODIFIED:20221129T131737Z
UID:10000029-1671555600-1671555600@www.zabok.hr
SUMMARY:Izrada božićnih ukrasa\, radionica za djecu
DESCRIPTION:
URL:https://www.zabok.hr/dogadanje/izrada-bozicnih-ukrasa-radionica-za-djecu/
LOCATION:Gradska knjižnica Zabok\, KNJIŽNICA KSAVER ŠANDOR ĐALSKI ZABOK\, Zabok\, 49210\, Croatia (Local Name: Hrvatska)
ATTACH;FMTTYPE=image/jpeg:https://www.zabok.hr/wp-content/uploads/2022/10/Zabok-logo.jpg
END:VEVENT
BEGIN:VEVENT
DTSTART;TZID=Europe/Zagreb:20221220T160000
DTEND;TZID=Europe/Zagreb:20221220T160000
DTSTAMP:20260420T182558
CREATED:20221129T131643Z
LAST-MODIFIED:20221129T131701Z
UID:10000028-1671552000-1671552000@www.zabok.hr
SUMMARY:Radionica izrade božićnih ukrasa za djecu
DESCRIPTION:
URL:https://www.zabok.hr/dogadanje/radionica-izrade-bozicnih-ukrasa-za-djecu/
LOCATION:Gradska galerija Zabok\, Grad Zabok\, Zabok\, 49210\, Croatia (Local Name: Hrvatska)
ATTACH;FMTTYPE=image/jpeg:https://www.zabok.hr/wp-content/uploads/2022/10/Zabok-logo.jpg
END:VEVENT
BEGIN:VEVENT
DTSTART;TZID=Europe/Zagreb:20221219T190000
DTEND;TZID=Europe/Zagreb:20221219T190000
DTSTAMP:20260420T182558
CREATED:20221129T131603Z
LAST-MODIFIED:20221129T131609Z
UID:10000027-1671476400-1671476400@www.zabok.hr
SUMMARY:Kićenje božićne jelke u organizaciji DND – a Zabok
DESCRIPTION:
URL:https://www.zabok.hr/dogadanje/kicenje-bozicne-jelke-u-organizaciji-dnd-a-zabok/
LOCATION:Gradska knjižnica Zabok\, KNJIŽNICA KSAVER ŠANDOR ĐALSKI ZABOK\, Zabok\, 49210\, Croatia (Local Name: Hrvatska)
ATTACH;FMTTYPE=image/jpeg:https://www.zabok.hr/wp-content/uploads/2022/10/Zabok-logo.jpg
END:VEVENT
BEGIN:VEVENT
DTSTART;TZID=Europe/Zagreb:20221218T143000
DTEND;TZID=Europe/Zagreb:20221218T170000
DTSTAMP:20260420T182558
CREATED:20221129T131519Z
LAST-MODIFIED:20221129T131519Z
UID:10000026-1671373800-1671382800@www.zabok.hr
SUMMARY:Doček Djeda Mraza i darivanje mališana\, nogometno igralište u Lugu Zabočkom
DESCRIPTION:
URL:https://www.zabok.hr/dogadanje/docek-djeda-mraza-i-darivanje-malisana-nogometno-igraliste-u-lugu-zabockom/
ATTACH;FMTTYPE=image/jpeg:https://www.zabok.hr/wp-content/uploads/2022/10/Zabok-logo.jpg
END:VEVENT
BEGIN:VEVENT
DTSTART;TZID=Europe/Zagreb:20221218T100000
DTEND;TZID=Europe/Zagreb:20221218T100000
DTSTAMP:20260420T182558
CREATED:20221129T131450Z
LAST-MODIFIED:20221129T131456Z
UID:10000025-1671357600-1671357600@www.zabok.hr
SUMMARY:Humanitarno događanje Udruženja obrtnika grada Zabok
DESCRIPTION:prigodna humanitarna prodaja\, upoznavanje s obrtničkim zanimanjima
URL:https://www.zabok.hr/dogadanje/humanitarno-dogadanje-udruzenja-obrtnika-grada-zabok/
LOCATION:Trg Ksavera Šandora Gjalskog\, Ksavera Šandora Gjalskog\, Zabok\, 49210\, Croatia (Local Name: Hrvatska)
ATTACH;FMTTYPE=image/jpeg:https://www.zabok.hr/wp-content/uploads/2022/10/Zabok-logo.jpg
END:VEVENT
BEGIN:VEVENT
DTSTART;TZID=Europe/Zagreb:20221218T100000
DTEND;TZID=Europe/Zagreb:20221218T100000
DTSTAMP:20260420T182558
CREATED:20221129T131238Z
LAST-MODIFIED:20221129T131332Z
UID:10000024-1671357600-1671357600@www.zabok.hr
SUMMARY:Dječji dan
DESCRIPTION:– Predstava ‘Kazalište prijatelj’ – Vještica Zloćkoslava i Djed Mraz \n– Božićni animatori\, oslikavanje lica\, podjela darova
URL:https://www.zabok.hr/dogadanje/djecji-dan/
LOCATION:Trg Ksavera Šandora Gjalskog\, Ksavera Šandora Gjalskog\, Zabok\, 49210\, Croatia (Local Name: Hrvatska)
ATTACH;FMTTYPE=image/jpeg:https://www.zabok.hr/wp-content/uploads/2022/10/Zabok-logo.jpg
END:VEVENT
BEGIN:VEVENT
DTSTART;TZID=Europe/Zagreb:20221217T220000
DTEND;TZID=Europe/Zagreb:20221217T220000
DTSTAMP:20260420T182558
CREATED:20221129T123608Z
LAST-MODIFIED:20221129T123728Z
UID:10000023-1671314400-1671314400@www.zabok.hr
SUMMARY:Svirka SMOOTH band
DESCRIPTION:
URL:https://www.zabok.hr/dogadanje/svirka-smooth-band/
LOCATION:Trg Ksavera Šandora Gjalskog\, Ksavera Šandora Gjalskog\, Zabok\, 49210\, Croatia (Local Name: Hrvatska)
ATTACH;FMTTYPE=image/jpeg:https://www.zabok.hr/wp-content/uploads/2022/10/Zabok-logo.jpg
END:VEVENT
BEGIN:VEVENT
DTSTART;TZID=Europe/Zagreb:20221217T200000
DTEND;TZID=Europe/Zagreb:20221217T200000
DTSTAMP:20260420T182558
CREATED:20221129T123523Z
LAST-MODIFIED:20221129T123538Z
UID:10000022-1671307200-1671307200@www.zabok.hr
SUMMARY:Veliki koncert MARKO TOLJA
DESCRIPTION:
URL:https://www.zabok.hr/dogadanje/veliki-koncert-marko-tolja/
LOCATION:Trg Ksavera Šandora Gjalskog\, Ksavera Šandora Gjalskog\, Zabok\, 49210\, Croatia (Local Name: Hrvatska)
ATTACH;FMTTYPE=image/jpeg:https://www.zabok.hr/wp-content/uploads/2022/10/Zabok-logo.jpg
END:VEVENT
BEGIN:VEVENT
DTSTART;TZID=Europe/Zagreb:20221217T190000
DTEND;TZID=Europe/Zagreb:20221217T190000
DTSTAMP:20260420T182558
CREATED:20221129T123412Z
LAST-MODIFIED:20221129T123423Z
UID:10000021-1671303600-1671303600@www.zabok.hr
SUMMARY:Udruga DRAMATON\, predstave 'Gdje je naša večera?' i 'Doček'\, Zelena dvorana
DESCRIPTION:
URL:https://www.zabok.hr/dogadanje/udruga-dramaton-predstave-gdje-je-nasa-vecera-i-docek-zelena-dvorana/
ATTACH;FMTTYPE=image/jpeg:https://www.zabok.hr/wp-content/uploads/2022/10/Zabok-logo.jpg
END:VEVENT
BEGIN:VEVENT
DTSTART;TZID=Europe/Zagreb:20221217T083000
DTEND;TZID=Europe/Zagreb:20221217T150000
DTSTAMP:20260420T182558
CREATED:20221129T123121Z
LAST-MODIFIED:20221129T123129Z
UID:10000019-1671265800-1671289200@www.zabok.hr
SUMMARY:CUT Gastro Advent
DESCRIPTION:– Prodajna izložba OPG-ova SZ Hrvatske \n– Zabavni program Dana turizma i ugostiteljstva u Zagorju – Škola je COOL!
URL:https://www.zabok.hr/dogadanje/cut-gastro-advent/
LOCATION:City park trg\, City park trg Zabok\, Zabok\, 49210\, Croatia (Local Name: Hrvatska)
ATTACH;FMTTYPE=image/jpeg:https://www.zabok.hr/wp-content/uploads/2022/10/Zabok-logo.jpg
END:VEVENT
BEGIN:VEVENT
DTSTART;TZID=Europe/Zagreb:20221216T200000
DTEND;TZID=Europe/Zagreb:20221216T200000
DTSTAMP:20260420T182558
CREATED:20221129T122752Z
LAST-MODIFIED:20221129T122801Z
UID:10000018-1671220800-1671220800@www.zabok.hr
SUMMARY:Otvorenje Adventa uz FOOTLOOSE band
DESCRIPTION:
URL:https://www.zabok.hr/dogadanje/otvorenje-adventa-uz-footloose-band/
LOCATION:Trg Ksavera Šandora Gjalskog\, Ksavera Šandora Gjalskog\, Zabok\, 49210\, Croatia (Local Name: Hrvatska)
ATTACH;FMTTYPE=image/jpeg:https://www.zabok.hr/wp-content/uploads/2022/10/Zabok-logo.jpg
END:VEVENT
BEGIN:VEVENT
DTSTART;TZID=Europe/Zagreb:20221216T180000
DTEND;TZID=Europe/Zagreb:20221216T180000
DTSTAMP:20260420T182558
CREATED:20221129T122616Z
LAST-MODIFIED:20221129T122629Z
UID:10000017-1671213600-1671213600@www.zabok.hr
SUMMARY:Turnir Zagorska zipka
DESCRIPTION:
URL:https://www.zabok.hr/dogadanje/turnir-zagorska-zipka/
LOCATION:Osnovna Škola Ksavera Šandora Gjalskog\, Osnovna Škola Ksavera Šandora Gjalskog\, Zabok\, 49210\, Croatia (Local Name: Hrvatska)
ATTACH;FMTTYPE=image/jpeg:https://www.zabok.hr/wp-content/uploads/2022/10/Zabok-logo.jpg
END:VEVENT
BEGIN:VEVENT
DTSTART;TZID=Europe/Zagreb:20221216T180000
DTEND;TZID=Europe/Zagreb:20221216T180000
DTSTAMP:20260420T182558
CREATED:20221129T122454Z
LAST-MODIFIED:20221129T122512Z
UID:10000016-1671213600-1671213600@www.zabok.hr
SUMMARY:Večer Zabočana
DESCRIPTION:
URL:https://www.zabok.hr/dogadanje/vecer-zabocana/
LOCATION:Osnovna Škola Ksavera Šandora Gjalskog\, Osnovna Škola Ksavera Šandora Gjalskog\, Zabok\, 49210\, Croatia (Local Name: Hrvatska)
ATTACH;FMTTYPE=image/jpeg:https://www.zabok.hr/wp-content/uploads/2022/10/Zabok-logo.jpg
END:VEVENT
BEGIN:VEVENT
DTSTART;TZID=Europe/Zagreb:20221216T170000
DTEND;TZID=Europe/Zagreb:20221216T170000
DTSTAMP:20260420T182558
CREATED:20221129T115144Z
LAST-MODIFIED:20221129T115154Z
UID:10000015-1671210000-1671210000@www.zabok.hr
SUMMARY:Božićni sajam u Dječjem vrtiću Zipkica
DESCRIPTION:
URL:https://www.zabok.hr/dogadanje/bozicni-sajam-u-djecjem-vrticu-zipkica/
LOCATION:Dječji vrtić Zipkica\, Dječji vrtić Zipkica\, Zabok\, 49210\, Croatia (Local Name: Hrvatska)
ATTACH;FMTTYPE=image/jpeg:https://www.zabok.hr/wp-content/uploads/2022/10/Zabok-logo.jpg
END:VEVENT
BEGIN:VEVENT
DTSTART;TZID=Europe/Zagreb:20221215T180000
DTEND;TZID=Europe/Zagreb:20221215T180000
DTSTAMP:20260420T182558
CREATED:20221129T115052Z
LAST-MODIFIED:20221129T115052Z
UID:10000014-1671127200-1671127200@www.zabok.hr
SUMMARY:Predstavljanje knjige 'Miško i prijatelji' Jasne Balaško
DESCRIPTION:
URL:https://www.zabok.hr/dogadanje/predstavljanje-knjige-misko-i-prijatelji-jasne-balasko/
LOCATION:Gradska knjižnica Zabok\, KNJIŽNICA KSAVER ŠANDOR ĐALSKI ZABOK\, Zabok\, 49210\, Croatia (Local Name: Hrvatska)
ATTACH;FMTTYPE=image/jpeg:https://www.zabok.hr/wp-content/uploads/2022/10/Zabok-logo.jpg
END:VEVENT
BEGIN:VEVENT
DTSTART;TZID=Europe/Zagreb:20221215T180000
DTEND;TZID=Europe/Zagreb:20221215T180000
DTSTAMP:20260420T182558
CREATED:20221129T115022Z
LAST-MODIFIED:20221129T115022Z
UID:10000013-1671127200-1671127200@www.zabok.hr
SUMMARY:Otvorenje izložbe Veronike Koprivnjak
DESCRIPTION:
URL:https://www.zabok.hr/dogadanje/otvorenje-izlozbe-veronike-koprivnjak/
LOCATION:Gradska galerija Zabok\, Grad Zabok\, Zabok\, 49210\, Croatia (Local Name: Hrvatska)
ATTACH;FMTTYPE=image/jpeg:https://www.zabok.hr/wp-content/uploads/2022/10/Zabok-logo.jpg
END:VEVENT
BEGIN:VEVENT
DTSTART;TZID=Europe/Zagreb:20221212T170000
DTEND;TZID=Europe/Zagreb:20221212T170000
DTSTAMP:20260420T182558
CREATED:20221129T114950Z
LAST-MODIFIED:20221129T114950Z
UID:10000012-1670864400-1670864400@www.zabok.hr
SUMMARY:Program „ČITAJ MI“ DND – a Zabok\,
DESCRIPTION:
URL:https://www.zabok.hr/dogadanje/program-citaj-mi-dnd-a-zabok-2/
LOCATION:Gradska knjižnica Zabok\, KNJIŽNICA KSAVER ŠANDOR ĐALSKI ZABOK\, Zabok\, 49210\, Croatia (Local Name: Hrvatska)
ATTACH;FMTTYPE=image/jpeg:https://www.zabok.hr/wp-content/uploads/2022/10/Zabok-logo.jpg
END:VEVENT
BEGIN:VEVENT
DTSTART;TZID=Europe/Zagreb:20221210T180000
DTEND;TZID=Europe/Zagreb:20221210T180000
DTSTAMP:20260420T182558
CREATED:20221129T114901Z
LAST-MODIFIED:20221129T114909Z
UID:10000011-1670695200-1670695200@www.zabok.hr
SUMMARY:Koncert Gradsko puhačkog orkestra Zabok 'Orkestar i prijatelji'
DESCRIPTION:
URL:https://www.zabok.hr/dogadanje/koncert-gradsko-puhackog-orkestra-zabok-orkestar-i-prijatelji/
LOCATION:Osnovna Škola Ksavera Šandora Gjalskog\, Osnovna Škola Ksavera Šandora Gjalskog\, Zabok\, 49210\, Croatia (Local Name: Hrvatska)
ATTACH;FMTTYPE=image/jpeg:https://www.zabok.hr/wp-content/uploads/2022/10/Zabok-logo.jpg
END:VEVENT
BEGIN:VEVENT
DTSTART;TZID=Europe/Zagreb:20221209T180000
DTEND;TZID=Europe/Zagreb:20221209T180000
DTSTAMP:20260420T182558
CREATED:20221129T114749Z
LAST-MODIFIED:20221129T114810Z
UID:10000010-1670608800-1670608800@www.zabok.hr
SUMMARY:"Pisma iz HealVillea: priča o osjećanju osjećaja"\, promocija knjige i predavanje  o mentalnom zdravlju djece Jelene Ribić i Damira Oštarčevića
DESCRIPTION:
URL:https://www.zabok.hr/dogadanje/pisma-iz-healvillea-prica-o-osjecanju-osjecaja-promocija-knjige-i-predavanje-o-mentalnom-zdravlju-djece-jelene-ribic-i-damira-ostarcevica/
LOCATION:Gradska galerija Zabok\, Grad Zabok\, Zabok\, 49210\, Croatia (Local Name: Hrvatska)
ATTACH;FMTTYPE=image/jpeg:https://www.zabok.hr/wp-content/uploads/2022/10/Zabok-logo.jpg
END:VEVENT
BEGIN:VEVENT
DTSTART;TZID=Europe/Zagreb:20221208T120000
DTEND;TZID=Europe/Zagreb:20221208T120000
DTSTAMP:20260420T182558
CREATED:20221129T114715Z
LAST-MODIFIED:20221129T115346Z
UID:10000009-1670500800-1670500800@www.zabok.hr
SUMMARY:Predavanje: Saša Ceci „Objašnjavanje neobjašnjivog“ i predstavljanje knjiga Blesimetar
DESCRIPTION:
URL:https://www.zabok.hr/dogadanje/predavanje-sasa-ceci-objasnjavanje-neobjasnjivog-i-predstavljanje-knjiga-blesimetar/
LOCATION:Gradska galerija Zabok\, Grad Zabok\, Zabok\, 49210\, Croatia (Local Name: Hrvatska)
ATTACH;FMTTYPE=image/jpeg:https://www.zabok.hr/wp-content/uploads/2022/10/Zabok-logo.jpg
END:VEVENT
BEGIN:VEVENT
DTSTART;TZID=Europe/Zagreb:20221207T173000
DTEND;TZID=Europe/Zagreb:20221207T173000
DTSTAMP:20260420T182558
CREATED:20221129T114430Z
LAST-MODIFIED:20221129T114507Z
UID:10000008-1670434200-1670434200@www.zabok.hr
SUMMARY:Radionica za roditelje učenika 1. razreda i ostale zainteresirane povodom Međunarodnog dana ovisnosti
DESCRIPTION:
URL:https://www.zabok.hr/dogadanje/radionica-za-roditelje-ucenika-1-razreda-i-ostale-zainteresirane-povodom-medunarodnog-dana-ovisnosti-sudigo-17-30-sati/
LOCATION:Škola za umjetnost\, dizajn\, grafiku i odjeću Zabok\, Škola za umjetnost\, dizajn\, grafiku i odjeću Zabok\, Zabok\, 49210\, Croatia (Local Name: Hrvatska)
ATTACH;FMTTYPE=image/jpeg:https://www.zabok.hr/wp-content/uploads/2022/10/Zabok-logo.jpg
END:VEVENT
BEGIN:VEVENT
DTSTART;TZID=Europe/Zagreb:20221207T103000
DTEND;TZID=Europe/Zagreb:20221207T103000
DTSTAMP:20260420T182558
CREATED:20221129T114332Z
LAST-MODIFIED:20221129T115318Z
UID:10000007-1670409000-1670409000@www.zabok.hr
SUMMARY:Darivanje novorođenih Zabočana
DESCRIPTION:
URL:https://www.zabok.hr/dogadanje/darivanje-novorodenih-zabocana/
LOCATION:Gradska galerija Zabok\, Grad Zabok\, Zabok\, 49210\, Croatia (Local Name: Hrvatska)
ATTACH;FMTTYPE=image/jpeg:https://www.zabok.hr/wp-content/uploads/2022/10/Zabok-logo.jpg
END:VEVENT
BEGIN:VEVENT
DTSTART;TZID=Europe/Zagreb:20221205T170000
DTEND;TZID=Europe/Zagreb:20221205T170000
DTSTAMP:20260420T182558
CREATED:20221129T114218Z
LAST-MODIFIED:20221129T114218Z
UID:10000006-1670259600-1670259600@www.zabok.hr
SUMMARY:Program „ČITAJ MI“ DND – a Zabok
DESCRIPTION:
URL:https://www.zabok.hr/dogadanje/program-citaj-mi-dnd-a-zabok/
LOCATION:Gradska knjižnica Zabok\, KNJIŽNICA KSAVER ŠANDOR ĐALSKI ZABOK\, Zabok\, 49210\, Croatia (Local Name: Hrvatska)
ATTACH;FMTTYPE=image/jpeg:https://www.zabok.hr/wp-content/uploads/2022/10/Zabok-logo.jpg
END:VEVENT
END:VCALENDAR