BEGIN:VCALENDAR
VERSION:2.0
PRODID:-//Grad Zabok - ECPv6.15.12.2//NONSGML v1.0//EN
CALSCALE:GREGORIAN
METHOD:PUBLISH
X-ORIGINAL-URL:https://www.zabok.hr
X-WR-CALDESC:Događaji za Grad Zabok
REFRESH-INTERVAL;VALUE=DURATION:PT1H
X-Robots-Tag:noindex
X-PUBLISHED-TTL:PT1H
BEGIN:VTIMEZONE
TZID:Europe/Zagreb
BEGIN:DAYLIGHT
TZOFFSETFROM:+0100
TZOFFSETTO:+0200
TZNAME:CEST
DTSTART:20210328T010000
END:DAYLIGHT
BEGIN:STANDARD
TZOFFSETFROM:+0200
TZOFFSETTO:+0100
TZNAME:CET
DTSTART:20211031T010000
END:STANDARD
BEGIN:DAYLIGHT
TZOFFSETFROM:+0100
TZOFFSETTO:+0200
TZNAME:CEST
DTSTART:20220327T010000
END:DAYLIGHT
BEGIN:STANDARD
TZOFFSETFROM:+0200
TZOFFSETTO:+0100
TZNAME:CET
DTSTART:20221030T010000
END:STANDARD
BEGIN:DAYLIGHT
TZOFFSETFROM:+0100
TZOFFSETTO:+0200
TZNAME:CEST
DTSTART:20230326T010000
END:DAYLIGHT
BEGIN:STANDARD
TZOFFSETFROM:+0200
TZOFFSETTO:+0100
TZNAME:CET
DTSTART:20231029T010000
END:STANDARD
END:VTIMEZONE
BEGIN:VEVENT
DTSTART;TZID=Europe/Zagreb:20221217T083000
DTEND;TZID=Europe/Zagreb:20221217T150000
DTSTAMP:20260421T005605
CREATED:20221129T123121Z
LAST-MODIFIED:20221129T123129Z
UID:10000019-1671265800-1671289200@www.zabok.hr
SUMMARY:CUT Gastro Advent
DESCRIPTION:– Prodajna izložba OPG-ova SZ Hrvatske \n– Zabavni program Dana turizma i ugostiteljstva u Zagorju – Škola je COOL!
URL:https://www.zabok.hr/dogadanje/cut-gastro-advent/
LOCATION:City park trg\, City park trg Zabok\, Zabok\, 49210\, Croatia (Local Name: Hrvatska)
ATTACH;FMTTYPE=image/jpeg:https://www.zabok.hr/wp-content/uploads/2022/10/Zabok-logo.jpg
END:VEVENT
END:VCALENDAR