BEGIN:VCALENDAR
VERSION:2.0
PRODID:-//Grad Zabok - ECPv6.15.12.2//NONSGML v1.0//EN
CALSCALE:GREGORIAN
METHOD:PUBLISH
X-WR-CALNAME:Grad Zabok
X-ORIGINAL-URL:https://www.zabok.hr
X-WR-CALDESC:Događaji za Grad Zabok
REFRESH-INTERVAL;VALUE=DURATION:PT1H
X-Robots-Tag:noindex
X-PUBLISHED-TTL:PT1H
BEGIN:VTIMEZONE
TZID:Europe/Zagreb
BEGIN:DAYLIGHT
TZOFFSETFROM:+0100
TZOFFSETTO:+0200
TZNAME:CEST
DTSTART:20210328T010000
END:DAYLIGHT
BEGIN:STANDARD
TZOFFSETFROM:+0200
TZOFFSETTO:+0100
TZNAME:CET
DTSTART:20211031T010000
END:STANDARD
BEGIN:DAYLIGHT
TZOFFSETFROM:+0100
TZOFFSETTO:+0200
TZNAME:CEST
DTSTART:20220327T010000
END:DAYLIGHT
BEGIN:STANDARD
TZOFFSETFROM:+0200
TZOFFSETTO:+0100
TZNAME:CET
DTSTART:20221030T010000
END:STANDARD
BEGIN:DAYLIGHT
TZOFFSETFROM:+0100
TZOFFSETTO:+0200
TZNAME:CEST
DTSTART:20230326T010000
END:DAYLIGHT
BEGIN:STANDARD
TZOFFSETFROM:+0200
TZOFFSETTO:+0100
TZNAME:CET
DTSTART:20231029T010000
END:STANDARD
END:VTIMEZONE
BEGIN:VEVENT
DTSTART;TZID=Europe/Zagreb:20221222T110000
DTEND;TZID=Europe/Zagreb:20221222T130000
DTSTAMP:20260420T232454
CREATED:20221129T131938Z
LAST-MODIFIED:20221129T131938Z
UID:10000033-1671706800-1671714000@www.zabok.hr
SUMMARY:Božićni sajam u Školi za umjetnost\, dizajn\, grafiku i odjeću Zabok
DESCRIPTION:
URL:https://www.zabok.hr/dogadanje/bozicni-sajam-u-skoli-za-umjetnost-dizajn-grafiku-i-odjecu-zabok-2/
LOCATION:Škola za umjetnost\, dizajn\, grafiku i odjeću Zabok\, Škola za umjetnost\, dizajn\, grafiku i odjeću Zabok\, Zabok\, 49210\, Croatia (Local Name: Hrvatska)
ATTACH;FMTTYPE=image/jpeg:https://www.zabok.hr/wp-content/uploads/2022/10/Zabok-logo.jpg
END:VEVENT
BEGIN:VEVENT
DTSTART;TZID=Europe/Zagreb:20221221T110000
DTEND;TZID=Europe/Zagreb:20221221T130000
DTSTAMP:20260420T232454
CREATED:20221129T131843Z
LAST-MODIFIED:20221129T131843Z
UID:10000031-1671620400-1671627600@www.zabok.hr
SUMMARY:Božićni sajam u Školi za umjetnost\, dizajn\, grafiku i odjeću Zabok
DESCRIPTION:
URL:https://www.zabok.hr/dogadanje/bozicni-sajam-u-skoli-za-umjetnost-dizajn-grafiku-i-odjecu-zabok/
LOCATION:Škola za umjetnost\, dizajn\, grafiku i odjeću Zabok\, Škola za umjetnost\, dizajn\, grafiku i odjeću Zabok\, Zabok\, 49210\, Croatia (Local Name: Hrvatska)
ATTACH;FMTTYPE=image/jpeg:https://www.zabok.hr/wp-content/uploads/2022/10/Zabok-logo.jpg
END:VEVENT
BEGIN:VEVENT
DTSTART;TZID=Europe/Zagreb:20221207T173000
DTEND;TZID=Europe/Zagreb:20221207T173000
DTSTAMP:20260420T232454
CREATED:20221129T114430Z
LAST-MODIFIED:20221129T114507Z
UID:10000008-1670434200-1670434200@www.zabok.hr
SUMMARY:Radionica za roditelje učenika 1. razreda i ostale zainteresirane povodom Međunarodnog dana ovisnosti
DESCRIPTION:
URL:https://www.zabok.hr/dogadanje/radionica-za-roditelje-ucenika-1-razreda-i-ostale-zainteresirane-povodom-medunarodnog-dana-ovisnosti-sudigo-17-30-sati/
LOCATION:Škola za umjetnost\, dizajn\, grafiku i odjeću Zabok\, Škola za umjetnost\, dizajn\, grafiku i odjeću Zabok\, Zabok\, 49210\, Croatia (Local Name: Hrvatska)
ATTACH;FMTTYPE=image/jpeg:https://www.zabok.hr/wp-content/uploads/2022/10/Zabok-logo.jpg
END:VEVENT
END:VCALENDAR